BEGIN:VCALENDAR
VERSION:2.0
PRODID:-//galerierdv.com
CALSCALE:GREGORIAN
BEGIN:VTIMEZONE
TZID:Europe/Paris
TZURL:http://tzurl.org/zoneinfo-outlook/Europe/Paris
X-LIC-LOCATION:Europe/Paris
BEGIN:DAYLIGHT
TZOFFSETFROM:+0200
TZOFFSETTO:+0100
TZNAME:CEST
DTSTART:19700308T020000
RRULE:FREQ=YEARLY;BYMONTH=3;BYDAY=-1SU
END:DAYLIGHT
BEGIN:STANDARD
TZOFFSETFROM:+0100
TZOFFSETTO:+0200
TZNAME:CET
DTSTART:19701101T020000
RRULE:FREQ=YEARLY;BYMONTH=10;BYDAY=-1SU
END:STANDARD
END:VTIMEZONE
BEGIN:VEVENT
DTSTAMP:20260422T172434Z
DTSTART;TZID=Europe/Paris:20260521T180000
DTEND;TZID=Europe/Paris:20260521T210000
SUMMARY:Présentation du catalogue et vernissage de l’exposition – L’atelier de Jacqueline
URL:https://galerierdv.com/expositions/l-atelier-de-jacqueline
DESCRIPTION:L’atelier de Jacqueline\nExposition de Jacqueline Gueux et Philippe Bazin à la Galerie RDV\nDu mercredi au samedi\nDe 14h à 19h et sur rendez-vous
LOCATION:Galerie RDV\n16 Allée du Commandant Charcot\n44000 Nantes
BEGIN:VALARM
ACTION:DISPLAY
DESCRIPTION:Présentation du catalogue et vernissage de l’exposition – L’atelier de Jacqueline
TRIGGER:-P1D
END:VALARM
END:VEVENT
END:VCALENDAR